0.0976000
0.0000000
0.0000000
-0.0972000
-635000.0000000
-1042000.0064000
