0.0976000
0.0000000
0.0000000
-0.0972000
-636250.0000000
-1042000.0064000
