0.0976000
0.0000000
0.0000000
-0.0972000
-640000.0000000
-1045000.0064000
