0.0976000
0.0000000
0.0000000
-0.0972000
-646250.0000000
-1041000.0064000
