0.0976000
0.0000000
0.0000000
-0.0972000
-642500.0000000
-1039000.0064000
