0.0976000
0.0000000
0.0000000
-0.0972000
-645000.0000000
-1037000.0064000
